BEGIN:VCALENDAR
VERSION:2.0
PRODID:-//on-off-studio - ECPv6.15.11//NONSGML v1.0//EN
CALSCALE:GREGORIAN
METHOD:PUBLISH
X-ORIGINAL-URL:https://on-off-studio.com
X-WR-CALDESC:Évènements pour on-off-studio
REFRESH-INTERVAL;VALUE=DURATION:PT1H
X-Robots-Tag:noindex
X-PUBLISHED-TTL:PT1H
BEGIN:VTIMEZONE
TZID:Europe/Paris
BEGIN:DAYLIGHT
TZOFFSETFROM:+0100
TZOFFSETTO:+0200
TZNAME:CEST
DTSTART:20150329T010000
END:DAYLIGHT
BEGIN:STANDARD
TZOFFSETFROM:+0200
TZOFFSETTO:+0100
TZNAME:CET
DTSTART:20151025T010000
END:STANDARD
BEGIN:DAYLIGHT
TZOFFSETFROM:+0100
TZOFFSETTO:+0200
TZNAME:CEST
DTSTART:20160327T010000
END:DAYLIGHT
BEGIN:STANDARD
TZOFFSETFROM:+0200
TZOFFSETTO:+0100
TZNAME:CET
DTSTART:20161030T010000
END:STANDARD
BEGIN:DAYLIGHT
TZOFFSETFROM:+0100
TZOFFSETTO:+0200
TZNAME:CEST
DTSTART:20170326T010000
END:DAYLIGHT
BEGIN:STANDARD
TZOFFSETFROM:+0200
TZOFFSETTO:+0100
TZNAME:CET
DTSTART:20171029T010000
END:STANDARD
END:VTIMEZONE
BEGIN:VEVENT
DTSTART;VALUE=DATE:20161007
DTEND;VALUE=DATE:20161016
DTSTAMP:20260420T180224
CREATED:20160719T152153Z
LAST-MODIFIED:20160810T153716Z
UID:3094-1475798400-1476575999@on-off-studio.com
SUMMARY:ON
DESCRIPTION:Exposition pour PARISARTISTES# 2016 / \n ON-OFF STUDIO est un lieu partenaire de cet évènement.\n www.parisartistes.com \n–
URL:https://on-off-studio.com/calendriers/exposition-sebas/
LOCATION:ON-OFF Studio\, El Salvador
CATEGORIES:Octobre,ON
ATTACH;FMTTYPE=image/jpeg:https://on-off-studio.com/wp-content/uploads/2016/07/1-Parisartistes-7-e1470843184845.jpg
END:VEVENT
END:VCALENDAR